BEGIN:VCALENDAR
VERSION:2.0
PRODID:-//urwahl3000//gruene-hilpoltstein.de//DE
CALSCALE:GREGORIAN
BEGIN:VEVENT
DTSTART:20220503T190000
DTEND:20220503T220000
LOCATION: Gasthaus Gutmann zur Post\, Hilpoltstein
DTSTAMP:20220503T190000
SUMMARY:OV Stammtisch 05/2022
URL;VALUE=URI:https://gruene-hilpoltstein.de/termin/ov-stammtisch/
DESCRIPTION:An jedem ersten Dienstag in ungeraden Kalendermonaten findet nun endlich wieder unser OV Stammtisch statt.

Egal ob OV Mitglieder oder politisch Interessierte, alle sind herzlich eingeladen um sich in lockerer Biergarten-Atmosphäre auszutauschen.

Wir freuen uns auf Euch!
UID:20220503T190000-20220503T190000-20220503T220000
END:VEVENT
END:VCALENDAR